BEGIN:VCALENDAR
VERSION:2.0
PRODID:-//Wilczy Kęs - ECPv6.12.0.1//NONSGML v1.0//EN
CALSCALE:GREGORIAN
METHOD:PUBLISH
X-ORIGINAL-URL:https://wilczykes.pl
X-WR-CALDESC:Wydarzenia dla Wilczy Kęs
REFRESH-INTERVAL;VALUE=DURATION:PT1H
X-Robots-Tag:noindex
X-PUBLISHED-TTL:PT1H
BEGIN:VTIMEZONE
TZID:Europe/Warsaw
BEGIN:DAYLIGHT
TZOFFSETFROM:+0100
TZOFFSETTO:+0200
TZNAME:CEST
DTSTART:20250330T010000
END:DAYLIGHT
BEGIN:STANDARD
TZOFFSETFROM:+0200
TZOFFSETTO:+0100
TZNAME:CET
DTSTART:20251026T010000
END:STANDARD
END:VTIMEZONE
BEGIN:VEVENT
DTSTART;VALUE=DATE:20250731
DTEND;VALUE=DATE:20250803
DTSTAMP:20260419T155321
CREATED:20250719T120510Z
LAST-MODIFIED:20250719T120510Z
UID:3609-1753920000-1754179199@wilczykes.pl
SUMMARY:BIES CZAD BLUES bieszczadzkie spotkania muzyczne
DESCRIPTION:XIX edycja bieszczadzkich spotkań muzycznych Bies Czad Blues odbędzie się w dniach 31.07-02.08 2025 roku w miejscowości Liszna 6 k/Cisnej (3\,7 km) \n31.07 – CZWARTEK \n\n20:00 – eMPeKa i Kura – akustycznie\njam session\n\n01.08 – PIĄTEK \n\n20:00 – Oil Stains\n21:00 – RoseMerry\nBieszczadzki Ambaras Rytmiczny – wodzirej Maciej Nowak\, w trakcie konkurs z nagrodą\njam session\n\n02.08 – SOBOTA \n\n12:30 – darmowy przejazd Bieszczadzką Kolejką Leśną (ze stacji w Majdanie)\n20:00 – Parasoul\n21:00 – Chango\njam session\n\nW jam session udział zadeklarowali\, m.in: Bieszczadzka Grupa Bluesowa\, Karolina Cygonek\, Szymon Drabkowski\, Jakub Jantos\, Filip Jurczyszyn\, Jakub Kałka\, Marek “Pegaz” Kobus\, Maciek “Kura” Kurowski\, Krzysztof “Pała” Mika\, Tomasz “Nawrot” Nawrocki\, Paweł “Kokolin” Rozmarynowski\, Borys Sawaszkiewicz\, Tymon i Przyjaciele\, Arek Zawiliński\, Max Ziobro\, Roman Ziobro i inni. \nProwadzenie imprezy Jakub Michałek.
URL:https://wilczykes.pl/wydarzenie/bies-czad-blues-bieszczadzkie-spotkania-muzyczne/
LOCATION:podkarpackie
CATEGORIES:Wilczy Kęs
END:VEVENT
BEGIN:VEVENT
DTSTART;TZID=Europe/Warsaw:20250730T160000
DTEND;TZID=Europe/Warsaw:20250730T190000
DTSTAMP:20260419T155321
CREATED:20250719T150444Z
LAST-MODIFIED:20250719T150444Z
UID:3621-1753891200-1753902000@wilczykes.pl
SUMMARY:Bieszczadzkie Granie Paweł Lewandowski w Wilczym Kęsie 30 lipca godzina 16:00
DESCRIPTION:30 lipca 2025 o 16:00Koncert Pawła Lewandowskiego w ramach cyklu Bieszczadzkie Granie w Wilczym Kęsie w Krzywym koło Cisnej.\nPaweł Lewandowski to bieszczadnik z krwi i wyboru\, leśnik zakochany w Bieszczadach\, koniarz\, zapalony fotograf i muzyk. Śpiewa własne utwory\, m.in. z płyty Pieśni Wiatru\, sięga po znane i lubiane piosenki turystyczne oraz utwory polskiego rocka. Posłuchaj muzyki pełnej emocji i prawdziwego górskiego ducha.\n Start koncertu: 16:00 Wstęp wolny Pyszne jedzenie i napoje w Wilczym Kęsie Przyjazna\, rodzinna atmosfera\nTo niezwykła okazja\, by posłuchać muzyki na żywo w malowniczej scenerii\, przy potoku\, u podnóża Krzemiennej i szczytu Jeleniego Skoku. W miejscu\, które łączy naturę z klimatycznym bieszczadzkim stylem.\nSpędź popołudnie w wyjątkowym miejscu w Bieszczadach\, blisko natury\, z dźwiękami gitary i poetyckim słowem. Wilczy Kęs w Krzywym koło Cisnej to idealna baza na koncertowy przystanek podczas wędrówek po okolicy. Zapraszamy wszystkich miłośników Bieszczad\, muzyki na żywo i letnich spotkań w dobrym klimacie!
URL:https://wilczykes.pl/wydarzenie/bieszczadzkie-granie-pawel-lewandowski-w-wilczym-kesie/
LOCATION:podkarpackie
CATEGORIES:Wilczy Kęs
END:VEVENT
BEGIN:VEVENT
DTSTART;TZID=Europe/Warsaw:20250727T160000
DTEND;TZID=Europe/Warsaw:20250727T190000
DTSTAMP:20260419T155321
CREATED:20250719T145514Z
LAST-MODIFIED:20250719T145514Z
UID:3619-1753632000-1753642800@wilczykes.pl
SUMMARY:Bieszczadzkie Granie Piotr ROGALIK Rogala w Wilczym Kęsie 27 lipca godzina 16:00
DESCRIPTION:27 lipca 2025 o 16:00 Koncert Piotra ROGALIKA Rogali w ramach cyklu Bieszczadzkie Granie w Wilczym Kęsie w Krzywym koło Cisnej.\nTo niezwykła okazja\, by posłuchać muzyki na żywo w malowniczej scenerii\, przy potoku\, u podnóża Krzemiennej i szczytu Jeleniego Skoku. W miejscu\, które łączy naturę z klimatycznym bieszczadzkim stylem.\nPiotr ROGALIK Rogala to prawdziwy pasjonat gór i przewodnik beskidzki\, zakochany w Bieszczadach. Śpiewa własne utwory oraz sięga po piękne teksty autorów takich jak Mirosław Welz\, Wiesław Kwinto-Koczan\, ks. Zenon Bieszczad\, Ryszard Szociński czy Roma Rappa. Posłuchaj muzyki pełnej emocji i prawdziwego górskiego ducha.\n Start koncertu: 16:00 Wstęp wolny Pyszne jedzenie i napoje w Wilczym Kęsie Przyjazna\, rodzinna atmosfera\nSpędź niedzielne popołudnie w wyjątkowym miejscu w Bieszczadach\, blisko natury\, z dźwiękami gitary i poetyckim słowem. Wilczy Kęs w Krzywym koło Cisnej to idealna baza na koncertowy przystanek podczas wędrówek po okolicy. Zapraszamy wszystkich miłośników Bieszczad\, muzyki na żywo i letnich spotkań w dobrym klimacie!
URL:https://wilczykes.pl/wydarzenie/bieszczadzkie-granie-piotr-rogalik-rogala-wilczy-kes/
LOCATION:podkarpackie
CATEGORIES:Wilczy Kęs
END:VEVENT
BEGIN:VEVENT
DTSTART;TZID=Europe/Warsaw:20250724T170000
DTEND;TZID=Europe/Warsaw:20250724T190000
DTSTAMP:20260419T155321
CREATED:20250719T153243Z
LAST-MODIFIED:20250719T171728Z
UID:3623-1753376400-1753383600@wilczykes.pl
SUMMARY:Bieszczadzkie Granie EETOLUZ 24 lipca godzina 17:00
DESCRIPTION: 24 lipca 2025 o 17:00Koncert zespółu EETOLUZ w ramach cyklu Bieszczadzkie Granie w Wilczym Kęsie w Krzywym koło Cisnej.\n EETOLUZ to zespół miejscowy. Grają żywą\, rytmiczną muzykę etno/folk inspirowaną bieszczadzkim klimatem i tradycjami. Ich koncert to spotkanie kultur\, taniec\, energia\, prawdziwa celebracja naszej lokalnej tożsamości.\n Start koncertu: 17:00 Wstęp wolny Pyszne jedzenie i napoje w Wilczym Kęsie Przyjazna\, rodzinna atmosfera\nTo niezwykła okazja\, by posłuchać muzyki na żywo w malowniczej scenerii\, przy potoku\, u podnóża Krzemiennej i szczytu Jeleniego Skoku. W miejscu\, które łączy naturę z klimatycznym bieszczadzkim stylem.\nSpędź popołudnie w wyjątkowym miejscu w Bieszczadach\, blisko natury\, z żywymi dźwiękami. Wilczy Kęs w Krzywym koło Cisnej to idealna baza na koncertowy przystanek podczas wędrówek po okolicy. Zapraszamy wszystkich miłośników Bieszczad\, muzyki na żywo i letnich spotkań w dobrym klimacie!
URL:https://wilczykes.pl/wydarzenie/bieszczadzkie-granie-eetoluz-24-lipca/
LOCATION:Wilczy Kęs\, Krzywe 1\, Krzywe\, podkarpackie\, 38-607\, Poland
CATEGORIES:Wilczy Kęs
END:VEVENT
BEGIN:VEVENT
DTSTART;VALUE=DATE:20250627
DTEND;VALUE=DATE:20250630
DTSTAMP:20260419T155321
CREATED:20250526T201243Z
LAST-MODIFIED:20250527T081219Z
UID:3554-1750982400-1751241599@wilczykes.pl
SUMMARY:FESTIWAL ZEW SIĘ BUDZI
DESCRIPTION:Festiwal ZEW Trzy dni koncertów w otoczeniu bieszczadzkich krajobrazów\, najlepsze zespoły i wyjątkowa atmosfera. \n27.06 \nDEZERTER \nBIG CYC  \nSPIĘTY \nSTACJA B \nTITUS TOMMY GUNN \nLATAJĄCE BIUSTONOSZE \nCZARNY BEZ \n28.06 \nKSU \nME AND THAT MAN \nOFFENSYWA \nTHE BILL \nDE ŁINDOWS \nBUREK DOBRY PIES \n29.06 \nKULT \nFARBEN LEHRE \nPABLOPAVO I LUDZIKI  \nSHAKIN DUDI  \nCRIMINAL TANGO  \nGARBATE ANIOŁKI \nOd 2018 roku przyciąga tych\, którzy chcą poczuć klimat wolności\, energii i bliskości z naturą. Każdego roku scena wypełnia się zespołami\, które naprawdę robią wrażenie. Zapraszamy wyjątkowych artystów – od legend po młode\, obiecujące odkrycia\, które zaskakują talentem. To mieszanka dźwięków\, która rozgrzewa serca i sprawia\, że każdy koncert staje się niezapomniany. \nAle ZEW to coś więcej niż line-up. To przestrzeń\, gdzie wszyscy są dla siebie jak rodzina – gdzie nowi znajomi szybko stają się przyjaciółmi. Tradycja\, energia\, wspólne śpiewanie przy bieszczadzkich krajobrazach – to właśnie ZEW się budzi. Każda edycja tworzy historię\, którą piszemy razem.
URL:https://wilczykes.pl/wydarzenie/zew-sie-budzi-festiwal-cisna-bieszczady/
LOCATION:Cisna\, Cisna\, podkarpackie\, 38-607\, Poland
CATEGORIES:Wilczy Kęs
END:VEVENT
BEGIN:VEVENT
DTSTART;TZID=Europe/Warsaw:20250501T160000
DTEND;TZID=Europe/Warsaw:20250501T180000
DTSTAMP:20260419T155321
CREATED:20250527T185223Z
LAST-MODIFIED:20250527T185223Z
UID:3575-1746115200-1746122400@wilczykes.pl
SUMMARY:BIESZCZADZKIE GRANIE koncert Pawła Lewandowskiego
DESCRIPTION:Koncert z cyklu BIESZCZADZKIE GRANIE W WILCZYM KĘSIE. Paweł Lewandowski twórca muzyki bieszczadzkiej.
URL:https://wilczykes.pl/wydarzenie/bieszczadzkie-granie-koncert-pawla-lewandowskiego/
LOCATION:podkarpackie
CATEGORIES:Wilczy Kęs
END:VEVENT
END:VCALENDAR